BEGIN:VCALENDAR
VERSION:2.0
PRODID:-//TYPO3/NONSGML Calendarize//EN
BEGIN:VEVENT
UID:calendarize-besichtigung-1-20330925
DTSTAMP:20260420T012012Z
DTSTART;VALUE=DATE:20330925
DTEND;VALUE=DATE:20330926
SUMMARY:Besichtigung
DESCRIPTION:
X-ALT-DESC;FMTTYPE=text/html:
LOCATION:Wassermühle Bruchmühlen (t3://record?identifier=tx_milldatabase
 _domain_model_mill&uid=167)
END:VEVENT
END:VCALENDAR
