BEGIN:VCALENDAR
VERSION:2.0
PRODID:-//TYPO3/NONSGML Calendarize//EN
BEGIN:VEVENT
UID:calendarize-jahreshauptversammlung-2026
DTSTAMP:20260420T005549Z
DTSTART:20260418T220000Z
DTEND:20260418T220000Z
SUMMARY:Jahreshauptversammlung 2026
DESCRIPTION:
X-ALT-DESC;FMTTYPE=text/html:
LOCATION:Dorfgemeinschaftshaus Barver\, Am Sportplatz 335 49453 Barver (t3
 ://record?identifier=tx_milldatabase_domain_model_mill&uid=373)
END:VEVENT
END:VCALENDAR
